BEGIN:VCALENDAR
VERSION:2.0
METHOD:PUBLISH
BEGIN:VEVENT
UID:WILD_APRICOT_EVENT_3654415_SESSION_1
DTSTART:20200122T213000Z
DTEND:20200123T010000Z
SUMMARY:Design your Roaring 20's Planning Session
LOCATION:L 1/ 1911 Malvern Road\, Malvern East
DESCRIPTION:https://boaa.com.au/event-3654415\n\nBonus Christmas /New Year Gift for BOAA Members - Dream BIG &\n “Design your Roaring 20’s workshop” \n  •We are offering to members only\,  a half day session on 23 Jan 2020 to focus on documenting your BIG DREAMS and how to achieve them in 2020 and beyond.\n  •This will be practical and outcome focused.\n  •Great way to start the year and the decade.\n  Your prep work package will be emailed soon please keep an eye out for it. \n   \n
DTSTAMP:20260424T164147Z
END:VEVENT
END:VCALENDAR
