BEGIN:VCALENDAR
VERSION:2.0
METHOD:PUBLISH
BEGIN:VEVENT
UID:WILD_APRICOT_EVENT_3598377_SESSION_1
DTSTART:20200519T140000Z
DTEND:20200520T140000Z
SUMMARY:BOAA Networking Function and Date
LOCATION:TBA
DESCRIPTION:https://boaa.com.au/event-3598377\n\n\n\n
DTSTAMP:20260424T164202Z
END:VEVENT
END:VCALENDAR
