BEGIN:VCALENDAR
VERSION:2.0
METHOD:PUBLISH
BEGIN:VEVENT
UID:WILD_APRICOT_EVENT_3598376_SESSION_1
DTSTART:20200420T140000Z
DTEND:20200421T140000Z
SUMMARY:BOAA Networking Function and Date
LOCATION:TBA
DESCRIPTION:https://boaa.com.au/event-3598376\n\n\n\n
DTSTAMP:20200225T044014Z
END:VEVENT
END:VCALENDAR
