BEGIN:VCALENDAR
VERSION:2.0
METHOD:PUBLISH
BEGIN:VEVENT
UID:WILD_APRICOT_EVENT_3598375_SESSION_1
DTSTART:20200318T070000Z
DTEND:20200318T090000Z
SUMMARY:BOAA Networking Function and Date
LOCATION:Level 1\, 1911 Malvern Road\, Malvern East
DESCRIPTION:https://boaa.com.au/event-3598375\n\nEvent Topic:\n  \nAsset Protection:\n 5 Ways to Protect Your Assets\n  Today\, it’s not enough to just operate a well-run and profitable business\, you also need to protect your assets from a variety of risks. Without asset protection\, everything you’ve worked hard for can be lost in a heartbeat.\n  Tony Rule from TAG Financial \, will discuss the issues around asset protection and strategies to protect your assets.\n      * Understanding common business risks\n\n        * Risks that you can't insure\n\n        * Strategies to protect your assets\n\n        * When you need expert advice\n\n        * Developing a asset protection plan\n\n  \n\n  \nAbout Tony Rule\n  Tony is a Partner and Director of TAG Financial Services and leads the Business Advisory and Tax division. He has extensive experience in business improvement and specialist knowledge in business tax\, structuring and development.. \n  In business\, Tony believes in making your business better\, for you. He focuses on helping business owners understand what they are trying to achieve and then assists them in accomplishing those goals. For some the goal is building wealth\, for others it is about achieving a work life balance or making a difference in the world.\n  \n\n
DTSTAMP:20260424T183112Z
END:VEVENT
END:VCALENDAR
