BEGIN:VCALENDAR
VERSION:2.0
METHOD:PUBLISH
BEGIN:VEVENT
UID:WILD_APRICOT_EVENT_3598374_SESSION_1
DTSTART:20200225T070000Z
DTEND:20200225T093000Z
SUMMARY:BOAA Networking Function and Guest Speaker
LOCATION:Huntingdale Golf Club\,  Windsor Ave Oakleigh Sth
DESCRIPTION:https://boaa.com.au/event-3598374\n\n1 Simple Technique to FUEL YOUR PASSION\n  Guest Speaker Glenn Adams\n   With over 17\,000 hours of global facilitation experience throughout Australia\, USA\, Asia and the Middle East\, Glenn has facilitated hundreds of seminars and interactive workshops.\n  Glenn will bring all his experience as a 'Myers Briggs' psychological evaluator and as a Master in 'Neuro Linguistic Programming'\,  to share with the group 1 simple technique to Fuel your Passion in life.\n  Glenn has also owned multiple companies and hence has the experience and perspective of a business owner. \n   As usual Networking opportunities with drinks and finger food.  You are welcome / encouraged to  invite a guest. \n   See you there. \n   \n
DTSTAMP:20200225T043952Z
END:VEVENT
END:VCALENDAR
