BEGIN:VCALENDAR
VERSION:2.0
METHOD:PUBLISH
BEGIN:VEVENT
UID:WILD_APRICOT_EVENT_3598373_SESSION_1
DTSTART:20200129T070000Z
DTEND:20200129T093000Z
SUMMARY:BOAA Networking - Topic Personal Growth & Development
LOCATION:Huntingdale Golf Club\, Windsor Ave\, Oakleigh South
DESCRIPTION:https://boaa.com.au/event-3598373\n\nMaking Personal Growth and Development a Priority - HOW and WHY\n  Guest Speaker Michelle Griffiths \n    *   Your personal Growth is important to you\, your business and the longevity of YOU in your Business\n    *   Finding the time to learn about the technical stuff that is necessary in your business/role is hard enough\, but how to find time to do this other stuff which is not "essential to your role" can be even harder - so how do you do this?  - some ideas and methods to explore.\n    *   Book clubs / Podcasts / Discussion Group / Audio Books / Seminars / Online Programs & Courses\n  Michelle will lead a discussion on some different mindsets in relation to personal development and also share what works or doesn't work for her and then let's SHARE some ideas and how we can all get improvement in our lives with these techniques.\n  Feel free to bring a list of YOUR favourite books or Podcasts to share in our discussion\n   \n
DTSTAMP:20200225T044213Z
END:VEVENT
END:VCALENDAR
