BEGIN:VCALENDAR
VERSION:2.0
METHOD:PUBLISH
BEGIN:VEVENT
UID:WILD_APRICOT_EVENT_3598372_SESSION_1
DTSTART:20191204T070000Z
DTEND:20191204T090000Z
SUMMARY:BOAA Christmas End of Year Networking
LOCATION:Hosted by Pitcher Partners\, L13/ 664 Collins St\, Docklands
DESCRIPTION:https://boaa.com.au/event-3598372\n\n\n\n  BOAA - Business Owners Association of Australia is holding its first Christmas Networking and drinks night hosted by PITCHER PARTNERS on the 4th December.\n  Address: L13/ 664 Collins St\, Docklands ( right next to Spencer st Station) \n  We will focus on how to be prepared for 2020 and beyond. \n  Come along and join us for Christmas Drinks \, Networking and a brief discussion on how to prepare for new outcomes in 2020 and beyond..\n
DTSTAMP:20200225T044236Z
END:VEVENT
END:VCALENDAR
