BEGIN:VCALENDAR
VERSION:2.0
METHOD:PUBLISH
BEGIN:VEVENT
UID:WILD_APRICOT_EVENT_3598371_SESSION_1
DTSTART:20191119T070000Z
DTEND:20191119T090000Z
SUMMARY:BOAA Networking Function and Date
LOCATION:Melbourne CBD\; Hosted by Macpherson Kelley Level 7\, 600 Bourke St\, Melb
DESCRIPTION:https://boaa.com.au/event-3598371\n\n\n Guest Presenters at BOAA 19 November 2019\n\n  Soozey Johnstone\n Topic: Leaders make difficult conversations work\n\n  \n\n  As a leadership team coach over the last twenty years\, Soozey has spent a lot of time researching and analysing the impact of conversations handled poorly. She now understands how important it is to have these conversations in the moment. To have a strong spine\, a cool head\, and a warm heart — and keeping the bigger picture front of mind. \n  \n  Darren Finkelstein\n Topic: Life is defined by the journey\, not the destination.\n\n  \n\n  Darren has a wealth of experience including\, but not limited to - working at Apple during the leadership era of Steve Jobs\; he has owned\, run and sold his own business\; he is a published author\; he is a 3AW specials comments expert on the Bay\; he now runs his own advisory business on the benefits of accountability.\n  Darren also was back to back winner of Dent Global “Entrepreneur of the Year” for Australia.\n
DTSTAMP:20260424T163903Z
END:VEVENT
END:VCALENDAR
