BEGIN:VCALENDAR
VERSION:2.0
METHOD:PUBLISH
BEGIN:VEVENT
UID:WILD_APRICOT_EVENT_3580885_SESSION_1
DTSTART:20191022T070000Z
DTEND:20191022T090000Z
SUMMARY:Official Launch of Business Owner Association Invitation
LOCATION:KOOYONG Lawn Tennis Club
DESCRIPTION:https://boaa.com.au/event-3580885\n\nTO ATTEND\, YOU MUST BOOK. CLICK HERE TO BOOK & SECURE YOUR SPOT\n  This is a new association designed and established to exclusively support business owners individually and as a group.\n\n  Being a supporter gives us the opportunity to invite people from our network. \n  This means you!  \n  BOAA’s key premise is to provide support\, networking and education to business owners as well it aims to be a collective voice to government for private businesses in Australia.\n  A key focus will be on how to have your business work for you\; so you can have freedom and personal choice with less stress and more support.\n  We are supporting BOAA because we believe it is what business owners need and in our opinion it closely matches and aligns with your values\, beliefs and requirements as an owner.\n  There have been a number of Foundation Member sessions which we supported and the feedback and uptake was overwhelmingly supportive.\n  This is a great opportunity to meet other like-minded business owners and learn how you can create both a better business and more importantly better life balance.\n  Please feel free to share this with other business owners\, remembering it is exclusivelyfor business owners.\n
DTSTAMP:20200225T044258Z
END:VEVENT
END:VCALENDAR
