BEGIN:VCALENDAR
VERSION:2.0
METHOD:PUBLISH
BEGIN:VEVENT
UID:WILD_APRICOT_EVENT_3544881_SESSION_1
DTSTART:20190917T073000Z
DTEND:20190917T090000Z
SUMMARY:BOAA Launch at Pitcher Partners
LOCATION:Level 13\, 664 Collins Street\, Docklands
DESCRIPTION:https://boaa.com.au/event-3544881\n\n\n\n  \nOur Vision for BOAA is\n  "To bring together Business Owners from across Australia to collectively be\n\n  the most influential private business organisation in the country – We aim to be a strong voice to government.  \n  Private business owners are largely ignore in Australia by government and that is because they are not organised as a collective voice.  \n  And as a collective group demonstrate our Leadership to improve Australia’s quality of life\, with a key focus on developing and supporting the next generation."\n  To book\n  CLICK HERE\n
DTSTAMP:20200225T044309Z
END:VEVENT
END:VCALENDAR
