BEGIN:VCALENDAR
VERSION:2.0
METHOD:PUBLISH
BEGIN:VEVENT
UID:WILD_APRICOT_EVENT_3510193_SESSION_1
DTSTART:20190827T073000Z
DTEND:20190827T090000Z
SUMMARY:BOAA Launch  Malvern
LOCATION:TAG Financial Level 1\, 1911 Malvern Road\, Malvern East
DESCRIPTION:https://boaa.com.au/event-3510193\n\nPlease join us for the launch of this exciting new organisation. \n\n  We invite you to come and learn more about what BOAA is and what it can do for you as a business owner.\n  We are hosting several Foundation Member Launch events across Melbourne to bring like-minded business owners together to network and get an introduction to BOAA.\n
DTSTAMP:20200225T044320Z
END:VEVENT
END:VCALENDAR
