BEGIN:VCALENDAR
VERSION:2.0
METHOD:PUBLISH
BEGIN:VEVENT
UID:WILD_APRICOT_EVENT_3503286_SESSION_1
DTSTART:20190814T073000Z
DTEND:20190814T090000Z
SUMMARY:BOAA Foundation Members Event - Dandenong
LOCATION:Macpherson Kelley 40-42 Scott Street\, Dandenong
DESCRIPTION:https://boaa.com.au/event-3503286\n\nPlease join us for the launch of this exciting new organisation. \n\n  We invite you to come and learn more about what BOAA is and what it can do for you as a business owner.\n  We are hosting several Foundation Member Launch events across Melbourne to bring like-minded business owners together to network and get an introduction to BOAA.\n
DTSTAMP:20200225T044342Z
END:VEVENT
END:VCALENDAR
